BEGIN:VCALENDAR
VERSION:2.0
PRODID:-//Skye Beach Cleans - ECPv6.15.20//NONSGML v1.0//EN
CALSCALE:GREGORIAN
METHOD:PUBLISH
X-ORIGINAL-URL:https://skyebeachcleans.co.uk
X-WR-CALDESC:Events for Skye Beach Cleans
REFRESH-INTERVAL;VALUE=DURATION:PT1H
X-Robots-Tag:noindex
X-PUBLISHED-TTL:PT1H
BEGIN:VTIMEZONE
TZID:Europe/London
BEGIN:DAYLIGHT
TZOFFSETFROM:+0000
TZOFFSETTO:+0100
TZNAME:BST
DTSTART:20250330T010000
END:DAYLIGHT
BEGIN:STANDARD
TZOFFSETFROM:+0100
TZOFFSETTO:+0000
TZNAME:GMT
DTSTART:20251026T010000
END:STANDARD
BEGIN:DAYLIGHT
TZOFFSETFROM:+0000
TZOFFSETTO:+0100
TZNAME:BST
DTSTART:20260329T010000
END:DAYLIGHT
BEGIN:STANDARD
TZOFFSETFROM:+0100
TZOFFSETTO:+0000
TZNAME:GMT
DTSTART:20261025T010000
END:STANDARD
BEGIN:DAYLIGHT
TZOFFSETFROM:+0000
TZOFFSETTO:+0100
TZNAME:BST
DTSTART:20270328T010000
END:DAYLIGHT
BEGIN:STANDARD
TZOFFSETFROM:+0100
TZOFFSETTO:+0000
TZNAME:GMT
DTSTART:20271031T010000
END:STANDARD
END:VTIMEZONE
BEGIN:VEVENT
DTSTART;TZID=Europe/London:20260425T100000
DTEND;TZID=Europe/London:20260425T130000
DTSTAMP:20260421T181819
CREATED:20260416T092600Z
LAST-MODIFIED:20260416T130331Z
UID:1450-1777111200-1777122000@skyebeachcleans.co.uk
SUMMARY:Loch Caroy Beach Clean Saturday 25th April 2026
DESCRIPTION:Get ready for our first beach clean of the season! Spring is a good time to clear the litter away before it start to get covered by vegetation on the shore\, particularly at Caroy.  Please bring thick gloves\, and appropriate footwear – disposable gloves\, litter pickers and bags will be provided. \nParking – at the layby at St John’s Chapel\, 2 minutes from the beach.  Access via gate further down the main road towards Dunvegan – look out for flag. \nRefreshments will be provided for all volunteers. \n 
URL:https://skyebeachcleans.co.uk/event/beach-clean-loch-caroy-2026-04-25/
LOCATION:Caroy Beach\, Caroy\, Dunvegan\, Isle Of Skye\, IV56 8FJ\, United Kingdom
CATEGORIES:Beach Cleans
ORGANIZER;CN="Skye Beach Cleans":MAILTO:info@skyebeachcleans.co.uk
END:VEVENT
END:VCALENDAR